BEGIN:VCALENDAR
VERSION:2.0
PRODID:-//Emma&#039;s Bubble Trust - ECPv6.15.18//NONSGML v1.0//EN
CALSCALE:GREGORIAN
METHOD:PUBLISH
X-ORIGINAL-URL:https://www.emmasbubbletrust.org
X-WR-CALDESC:Events for Emma&#039;s Bubble Trust
REFRESH-INTERVAL;VALUE=DURATION:PT1H
X-Robots-Tag:noindex
X-PUBLISHED-TTL:PT1H
BEGIN:VTIMEZONE
TZID:UTC
BEGIN:STANDARD
TZOFFSETFROM:+0000
TZOFFSETTO:+0000
TZNAME:UTC
DTSTART:20150101T000000
END:STANDARD
END:VTIMEZONE
BEGIN:VEVENT
DTSTART;TZID=UTC:20170702T120000
DTEND;TZID=UTC:20170702T160000
DTSTAMP:20260419T192835
CREATED:20170402T171440Z
LAST-MODIFIED:20170402T171849Z
UID:2040-1498996800-1499011200@www.emmasbubbletrust.org
SUMMARY:Afternoon Tea Party
DESCRIPTION:Come and enjoy an afternoon tea party! \nHelp to raise funds for Emma’s Bubble Trust by drinking prosecco\, eating strawberries and cup cakes – its a hard life.. \nThere will also be a chance to wander around and buy some lovely things from our stalls. \n(exact times and details to be confirmed) \n 
URL:https://www.emmasbubbletrust.org/event/afternoon-tea-party/
LOCATION:Surrey
ATTACH;FMTTYPE=image/jpeg:https://www.emmasbubbletrust.org/wp-content/uploads/2017/04/Strawberries-and-Prosecco_.jpg
END:VEVENT
BEGIN:VEVENT
DTSTART;TZID=UTC:20170617T090000
DTEND;TZID=UTC:20170617T130000
DTSTAMP:20260419T192835
CREATED:20170402T170613Z
LAST-MODIFIED:20170402T172829Z
UID:2037-1497690000-1497704400@www.emmasbubbletrust.org
SUMMARY:Wimbledon Fair - 17th June 2017
DESCRIPTION:Please come and support us at the Annual Wimbledon Fair. \nWe will be there with our Soft Toy Tombola stall\, raising funds for Emma’s Bubble Trust. \n 
URL:https://www.emmasbubbletrust.org/event/wimbledon-fair/
LOCATION:Surrey
CATEGORIES:Fair
ATTACH;FMTTYPE=image/jpeg:https://www.emmasbubbletrust.org/wp-content/uploads/2017/04/image1.jpg
END:VEVENT
BEGIN:VEVENT
DTSTART;TZID=UTC:20170610T090000
DTEND;TZID=UTC:20170610T173000
DTSTAMP:20260419T192835
CREATED:20161127T200103Z
LAST-MODIFIED:20170624T152550Z
UID:1154-1497085200-1497115800@www.emmasbubbletrust.org
SUMMARY:London to Brighton 2017
DESCRIPTION:Our annual London to Brighton Bike Ride is now in it’s 8th year! We started the event as a bit of a fun run with many riders having never cycled before. It’s become a big event with riders of all ages and ability on what is still very much a fun ride. Not only will you have a fantastic feeling cycling from The Royal Marsden Hospital\, you’ll get over the final and infamous Ditchling Beacon\, but you’ll also help to raise lots of money in doing so. \nYou can sign up here to receive more information:
URL:https://www.emmasbubbletrust.org/event/london-to-brighton-2017/
LOCATION:The Royal Marsden Hospital (Sutton)\, Downs Rd\, Sutton\, Surrey\, SM2 5PT\, United Kingdom
CATEGORIES:Cycling
ATTACH;FMTTYPE=image/jpeg:https://www.emmasbubbletrust.org/wp-content/uploads/2015/06/DSC_10030.jpg
ORGANIZER;CN="Adam Lynch":MAILTO:adam@emmasbubbletrust.org
END:VEVENT
BEGIN:VEVENT
DTSTART;TZID=UTC:20170520T090000
DTEND;TZID=UTC:20170520T130000
DTSTAMP:20260419T192835
CREATED:20170319T161331Z
LAST-MODIFIED:20170402T172008Z
UID:2008-1495270800-1495285200@www.emmasbubbletrust.org
SUMMARY:Walton Fair - 20th May 2017
DESCRIPTION:  \nWe will be raising funds\, by having a Soft Toy Tombola stall. \nPlease come along and support us on the day!
URL:https://www.emmasbubbletrust.org/event/walton-fair-20th-may-2017/
LOCATION:Walton Fair\, The Green\, Howard Close\, Walton on the Hill\, Tadworth\, Surrey\, KT207QF\, United Kingdom
CATEGORIES:Fair
ATTACH;FMTTYPE=image/jpeg:https://www.emmasbubbletrust.org/wp-content/uploads/2016/09/553A8B81-89AC-4C3C-837C-4F24D98FB5E1.jpg
END:VEVENT
BEGIN:VEVENT
DTSTART;TZID=UTC:20170422T090000
DTEND;TZID=UTC:20170422T130000
DTSTAMP:20260419T192835
CREATED:20170407T211402Z
LAST-MODIFIED:20170407T211402Z
UID:2065-1492851600-1492866000@www.emmasbubbletrust.org
SUMMARY:London to Brighton Training Ride
DESCRIPTION:We’ll be really starting to add to the miles and hills this week\, covering both Leith Hill and Box Hill as well as travelling around 30 miles. This training ride typically does take a bit longer than the usual training ridesÂ due to the distance and number of hills. However we will take it nice and slow and ensure that everyone keeps up\, then weÂ will head back to the Bike Bean Cycle Cafe in Ashtead for some coffee\, tea and cake. \n \nRemember that you can sign up for our cycling events including London to Brighton by filling out the form below or Â by emailing adam@emmasbubbletrust.org
URL:https://www.emmasbubbletrust.org/event/london-to-brighton-training-ride-4/
LOCATION:Bike Beans Cafe\, Rectory Lane\, Ashtead\, Surrey\, KT21 2BA\, United Kingdom
CATEGORIES:Cycling
ATTACH;FMTTYPE=image/jpeg:https://www.emmasbubbletrust.org/wp-content/uploads/2017/04/IMG_1012.jpg
ORGANIZER;CN="Adam Lynch":MAILTO:adam@emmasbubbletrust.org
END:VEVENT
BEGIN:VEVENT
DTSTART;TZID=UTC:20170415T090000
DTEND;TZID=UTC:20170415T120000
DTSTAMP:20260419T192836
CREATED:20170407T205405Z
LAST-MODIFIED:20170407T205405Z
UID:2062-1492246800-1492257600@www.emmasbubbletrust.org
SUMMARY:London to Brighton Training Ride
DESCRIPTION:We’re really starting to ramp up the miles (and the hills) this week on our latest route. The route will cover just over 27miles and will be slow and steady to ensure that everyone can keep up. We will be heading up over Box Hill for the first time this season and will then head back to the Bike Bean Cycle Cafe in Ashtead for some coffee\, tea and cake. \n \nRemember that you can sign up for our cycling events including London to Brighton by filling out the form below or Â by emailing adam@emmasbubbletrust.org
URL:https://www.emmasbubbletrust.org/event/london-to-brighton-training-ride-3/
LOCATION:Bike Beans Cafe\, Rectory Lane\, Ashtead\, Surrey\, KT21 2BA\, United Kingdom
CATEGORIES:Cycling
ATTACH;FMTTYPE=image/jpeg:https://www.emmasbubbletrust.org/wp-content/uploads/2017/04/IMG_1012.jpg
ORGANIZER;CN="Adam Lynch":MAILTO:adam@emmasbubbletrust.org
END:VEVENT
BEGIN:VEVENT
DTSTART;TZID=UTC:20170408T090000
DTEND;TZID=UTC:20170408T120000
DTSTAMP:20260419T192836
CREATED:20170402T183955Z
LAST-MODIFIED:20170407T210301Z
UID:2051-1491642000-1491652800@www.emmasbubbletrust.org
SUMMARY:London to Brighton Training Ride
DESCRIPTION:This weeks training ride will be a slow and steady 20 miler\, throwing in a few hills for good measure. We will be heading down to Epsom from Ashtead\, then heading up over Epsom Downs towards Betchworth and backÂ towards Ashtead. WeÂ will then head back to the Bike Bean Cycle Cafe in Ashtead for some coffee\, tea and cake. \n \nRemember that you can sign up for our cycling events including London to Brighton by filling out the form below or Â by emailing adam@emmasbubbletrust.org
URL:https://www.emmasbubbletrust.org/event/london-to-brighton-training-ride-2/
LOCATION:Bike Beans Cafe\, Rectory Lane\, Ashtead\, Surrey\, KT21 2BA\, United Kingdom
CATEGORIES:Cycling
ATTACH;FMTTYPE=image/jpeg:https://www.emmasbubbletrust.org/wp-content/uploads/2017/04/IMG_1012.jpg
ORGANIZER;CN="Adam Lynch":MAILTO:adam@emmasbubbletrust.org
END:VEVENT
BEGIN:VEVENT
DTSTART;TZID=UTC:20170402T100000
DTEND;TZID=UTC:20170402T130000
DTSTAMP:20260419T192836
CREATED:20170402T164942Z
LAST-MODIFIED:20170402T165225Z
UID:2026-1491127200-1491138000@www.emmasbubbletrust.org
SUMMARY:Epsom Rock Choir Mystery Bus Tour
DESCRIPTION:Huge thanks to Jane Derrick and the amazing Epsom Rock Choir. \nThey brightened the day for people around Epsom today with their wonderfulÂ singing and raised Â£350 for Emma’s Bubble Trust !! \nhttp://www.emmasbubbletrust.org/wp-content/uploads/2017/04/Epsom-Rock-Choir.mp4
URL:https://www.emmasbubbletrust.org/event/epsom-rock-choir-mystery-bus-tour/
LOCATION:Surrey
CATEGORIES:Rock Choir
ATTACH;FMTTYPE=image/jpeg:https://www.emmasbubbletrust.org/wp-content/uploads/2017/04/Rock-Choir-1.jpg
END:VEVENT
BEGIN:VEVENT
DTSTART;TZID=UTC:20170325T090000
DTEND;TZID=UTC:20170325T120000
DTSTAMP:20260419T192836
CREATED:20170102T220009Z
LAST-MODIFIED:20170102T220009Z
UID:1989-1490432400-1490443200@www.emmasbubbletrust.org
SUMMARY:London to Brighton Training Ride
DESCRIPTION:This will be our first training ride of the year in preparation for our London to Brighton bike ride. We’re really hoping that this year will be a bumper year for riders and hope that you all come along and enjoy us on the social side of things before the event too! If you’re interested please email adam@emmasbubbletrust.org.
URL:https://www.emmasbubbletrust.org/event/london-to-brighton-training-ride/
LOCATION:Bike Beans Cafe\, Rectory Lane\, Ashtead\, Surrey\, KT21 2BA\, United Kingdom
CATEGORIES:Cycling
ATTACH;FMTTYPE=image/jpeg:https://www.emmasbubbletrust.org/wp-content/uploads/2016/12/53.jpg
ORGANIZER;CN="Adam Lynch":MAILTO:adam@emmasbubbletrust.org
END:VEVENT
BEGIN:VEVENT
DTSTART;TZID=UTC:20161210T183000
DTEND;TZID=UTC:20161210T235500
DTSTAMP:20260419T192836
CREATED:20161120T211336Z
LAST-MODIFIED:20161128T220232Z
UID:1059-1481394600-1481414100@www.emmasbubbletrust.org
SUMMARY:Emma's Ball 2016
DESCRIPTION:Emma’s Ball is our featured annual event\,Â in memory of Emma’s birthday\, to both raise money and celebrate her very special of days. In it’s 7th year we hope that this year will be even better than the last\, with lots of memories made throughout the night. This year we’re very lucky to have lots of fantastic auction lots up for grabs as well as fantastic table prizes\, so that you’ll truly have a fantastic night. As part of the ticket price\, you’ll get all of your entertainment\, arrival drinks\, 3 course meal\, wine and after coffees.
URL:https://www.emmasbubbletrust.org/event/emmas-ball-2016/
LOCATION:Woodlands Park Hotel\, Woodlands Ln\, Stoke D'Abernon\, Cobham\, Surrey\, KT11 3QB\, United Kingdom
CATEGORIES:Ball
ATTACH;FMTTYPE=image/jpeg:https://www.emmasbubbletrust.org/wp-content/uploads/2015/12/DSC_0275.jpg
ORGANIZER;CN="Joy Lynch":MAILTO:joy.lynch@emmasbubbletrust.org
END:VEVENT
END:VCALENDAR