BEGIN:VCALENDAR
VERSION:2.0
PRODID:-//Emma&#039;s Bubble Trust - ECPv6.15.18//NONSGML v1.0//EN
CALSCALE:GREGORIAN
METHOD:PUBLISH
X-WR-CALNAME:Emma&#039;s Bubble Trust
X-ORIGINAL-URL:https://www.emmasbubbletrust.org
X-WR-CALDESC:Events for Emma&#039;s Bubble Trust
REFRESH-INTERVAL;VALUE=DURATION:PT1H
X-Robots-Tag:noindex
X-PUBLISHED-TTL:PT1H
BEGIN:VTIMEZONE
TZID:UTC
BEGIN:STANDARD
TZOFFSETFROM:+0000
TZOFFSETTO:+0000
TZNAME:UTC
DTSTART:20150101T000000
END:STANDARD
END:VTIMEZONE
BEGIN:VEVENT
DTSTART;VALUE=DATE:20251206
DTEND;VALUE=DATE:20251207
DTSTAMP:20260419T205218
CREATED:20250216T214538Z
LAST-MODIFIED:20250506T194606Z
UID:3517-1764979200-1765065599@www.emmasbubbletrust.org
SUMMARY:Emma's Ball 2025
DESCRIPTION:Emma’s Ball is our big annual event where we raise a significant amount of money for our causes. \nJoin us at Woodlands Park Hotel as we get together for Christmas and celebrate our Emma. \nTicket prices are £90 per person for all of your evenings entertainment\, 3 course meal and table wine. Timings for the event will be released nearer to the event.
URL:https://www.emmasbubbletrust.org/event/emmas-ball-2025/
LOCATION:Woodlands Park Hotel\, Woodlands Ln\, Stoke D'Abernon\, Cobham\, Surrey\, KT11 3QB\, United Kingdom
CATEGORIES:Ball
ATTACH;FMTTYPE=image/jpeg:https://www.emmasbubbletrust.org/wp-content/uploads/2025/01/45DC165B-4E4C-42AC-8C35-217174AB1581_1_105_c.jpeg
ORGANIZER;CN="Lynn Brandon":MAILTO:lynn.brandon@emmasbubbletrust.org
END:VEVENT
BEGIN:VEVENT
DTSTART;VALUE=DATE:20241207
DTEND;VALUE=DATE:20241208
DTSTAMP:20260419T205218
CREATED:20240424T160010Z
LAST-MODIFIED:20240424T190854Z
UID:3461-1733529600-1733615999@www.emmasbubbletrust.org
SUMMARY:Emma's Ball 2024
DESCRIPTION:Join us for an evening full of fun at Woodlands Park Hotel for Emma’s Annual Ball. \nIf this is of interest to you email Lynn.brandon@emmasbubbletrust.org to arrange.
URL:https://www.emmasbubbletrust.org/event/emmas-ball-2024/
LOCATION:Woodlands Park Hotel\, Woodlands Ln\, Stoke D'Abernon\, Cobham\, Surrey\, KT11 3QB\, United Kingdom
CATEGORIES:Ball
ATTACH;FMTTYPE=image/jpeg:https://www.emmasbubbletrust.org/wp-content/uploads/2023/06/winter-ball-2023.jpg
ORGANIZER;CN="Lynn Brandon":MAILTO:lynn.brandon@emmasbubbletrust.org
END:VEVENT
BEGIN:VEVENT
DTSTART;VALUE=DATE:20231209
DTEND;VALUE=DATE:20231210
DTSTAMP:20260419T205218
CREATED:20230611T205827Z
LAST-MODIFIED:20230611T205827Z
UID:3409-1702080000-1702166399@www.emmasbubbletrust.org
SUMMARY:Emma's Ball 2023
DESCRIPTION:Emma’s Ball is back for 2023 at the Woodlands Park Hotel after a brief hiatus at Denbies. \nWe’re really looking forward to seeing you all for a festive night of fun filled activities including a 3 course meal\, dancing and as ever plenty of table games! \nTicket prices are yet TBC but reserve now before it’s too late.
URL:https://www.emmasbubbletrust.org/event/emmas-ball-2023/
LOCATION:Woodlands Park Hotel\, Woodlands Ln\, Stoke D'Abernon\, Cobham\, Surrey\, KT11 3QB\, United Kingdom
CATEGORIES:Ball
ATTACH;FMTTYPE=image/jpeg:https://www.emmasbubbletrust.org/wp-content/uploads/2023/06/winter-ball-2023.jpg
ORGANIZER;CN="Lynn Brandon":MAILTO:lynn.brandon@emmasbubbletrust.org
END:VEVENT
BEGIN:VEVENT
DTSTART;TZID=UTC:20221210T183000
DTEND;TZID=UTC:20221211T000000
DTSTAMP:20260419T205218
CREATED:20220820T121003Z
LAST-MODIFIED:20220820T122519Z
UID:3368-1670697000-1670716800@www.emmasbubbletrust.org
SUMMARY:Emma's Ball  2022
DESCRIPTION:As promised here are the details for this years charity Ball. \nWe have a maximum number for 100 guests so be sure to reserve your tickets! \n10 rooms have also been reserved at The Burford Bridge hotel at £129 for double room inc breakfast  \nPlease email Lynn.brandon@emmasbubbletrust.org or text to 07367900229 to reserve your ticket/room. \nPlease can we request a non-returnable deposit for the ball tickets upon reserving. \nWe do hope that you are able to join us for another great evening. \nThank you for your support
URL:https://www.emmasbubbletrust.org/event/emmas-ball-2022/
LOCATION:Denbies Wine Estate\, London Road\, Dorking\, Surrey\, RH5 6AA\, United Kingdom
CATEGORIES:Ball
ATTACH;FMTTYPE=image/jpeg:https://www.emmasbubbletrust.org/wp-content/uploads/2021/04/denbies.jpeg
ORGANIZER;CN="Lynn Brandon":MAILTO:lynn.brandon@emmasbubbletrust.org
END:VEVENT
BEGIN:VEVENT
DTSTART;TZID=UTC:20211204T183000
DTEND;TZID=UTC:20211204T235900
DTSTAMP:20260419T205218
CREATED:20210402T084552Z
LAST-MODIFIED:20211113T191819Z
UID:3315-1638642600-1638662340@www.emmasbubbletrust.org
SUMMARY:Emma's Ball 2021
DESCRIPTION:We have had interest in Emma’s Ball for this year on 4th December which is great.  \nThe venue is Denbies Vineyard in Dorking and with a maximum of 80 tickets.  \nTickets are now sold out and require payment with the below details: \n\nSort Code: 40-27-07\nAccount Name: EBT\nAccount Number: 71563971\nPlease Reference your Surname\nTickets are £75 each\n\nI have reserved 9 rooms at The Burford Bridge Hotel which is almost opposite the venue at £110 for a double room\, Â£100 single\, including breakfast\, so again if you are interested please let me know. Obviously if the unthinkable happens and restrictions are once again applied then all money will be refunded.
URL:https://www.emmasbubbletrust.org/event/emmas-ball-2021/
LOCATION:Denbies Wine Estate\, London Road\, Dorking\, Surrey\, RH5 6AA\, United Kingdom
CATEGORIES:Ball
ATTACH;FMTTYPE=image/jpeg:https://www.emmasbubbletrust.org/wp-content/uploads/2021/04/denbies.jpeg
ORGANIZER;CN="Lynn Brandon":MAILTO:lynn.brandon@emmasbubbletrust.org
END:VEVENT
BEGIN:VEVENT
DTSTART;TZID=UTC:20201128T183000
DTEND;TZID=UTC:20201128T233000
DTSTAMP:20260419T205218
CREATED:20200302T222537Z
LAST-MODIFIED:20200927T201811Z
UID:3245-1606588200-1606606200@www.emmasbubbletrust.org
SUMMARY:Emma's Ball 2020 - CANCELLED
DESCRIPTION:I am sure that this wonâ€™t come as a huge surprise but due to the current Covid 19 restrictions we are sadly having to cancel our annual Ball. \nThis is a huge blow for the charity as this is our main fundraiser and all fundraising events have not been able to go ahead at all during 2020. However everyoneâ€™s well-being and safely is paramount. \nHopefully next year we can get things back on track to keep the flat running and supporting those patients and their families that need it most. \nThank you to everyone that has registered with Amazon Smile and nominated us as your chosen charity. With Christmas coming and most of us using internet shopping 0.5% of each total shop will help a great deal. If you shop with Amazon please make sure you nominate us and ask your friends and family to do so too! You can also now sign up for use in the app: https://www.amazon.co.uk/b?ie=UTF8&node=17337655031. \n  \nKeep safe and well \nBest wishes \nFromÂ  \nAll at Emmaâ€™s Bubble Trust
URL:https://www.emmasbubbletrust.org/event/emmas-ball-2020/
LOCATION:Denbies Wine Estate\, London Road\, Dorking\, Surrey\, RH5 6AA\, United Kingdom
CATEGORIES:Ball
ATTACH;FMTTYPE=image/jpeg:https://www.emmasbubbletrust.org/wp-content/uploads/2020/03/denbies.jpeg
ORGANIZER;CN="Lynn Brandon":MAILTO:lynn.brandon@emmasbubbletrust.org
END:VEVENT
BEGIN:VEVENT
DTSTART;TZID=UTC:20191207T183000
DTEND;TZID=UTC:20191208T000000
DTSTAMP:20260419T205218
CREATED:20190703T210845Z
LAST-MODIFIED:20200105T203926Z
UID:3209-1575743400-1575763200@www.emmasbubbletrust.org
SUMMARY:Emma's Masquerade Ball 2019
DESCRIPTION:We’re pleased to announce this years Emma’s Masquerade Ball 2019 will be taking place on Saturday 7th December at Woodlands Park Hotel in Surrey. \nThe event starts promptly at 6.30pm\, with festivities kicking off straight away. The 3 course meal will follow welcome drinks and then we’ll get into an evening of games and this year a great volume of auction prizes up for grabs. A DJ will kick off the dance floor following the auction with the evening will finishing at midnight. \nThe venue is a little way away from major train stations so if you are booking taxi’s it’s advised to do so in advance. \nPlease remember that this years ball has a masquerade theme and we encourage everyone to go as whacky as possible in covering up their faces! It’s all about making those memories. \nFinally please be reminded that this is a charity event and it’s our biggest fundraiser of the year\, so please give as generously as you can on the night. Every Â£ you give goes straight to the charity and really helps to make a difference to the lives of young people suffering this most awful of disease. While we will have a card machine on the evening\, we encourage cash for other games throughout the evening. \n————————– \nFor ticket information or to book your places please email joy.lynch@emmasbubbletrust.org. \nTicket Prices: Â£75 per person\, which includes a drink on arrival\, 3 course meal and all of your evenings entertainment. \nPAYMENT DETAILS: Payment is due on Friday 8th November\, through the Bubble Trust account HSBC – Account no: 71563971\, Sort code:40-27-07. When paying please ensure you put your initial and surname followed by ball (e.g. JLYNCHBALL). \nAccommodation: Rooms are available under the name Emmaâ€™s Bubble 2019Â to secure this special discounted price. Rooms are limited so please confirm your spot asap. \nFood: We haven’t yet decided the menu’s for this years event\, but will contact you once you have paid. \nPlease pass on this email too if you have any guests that may not be on the Emma’s Bubble Trust distribution list. \nWe can’t wait to see you at the ball. \nThe Emma’s Bubble Trust events team xxx\nEvery Moment Matters Always
URL:https://www.emmasbubbletrust.org/event/emmas-ball-2019/
LOCATION:Woodlands Park Hotel\, Woodlands Ln\, Stoke D'Abernon\, Cobham\, Surrey\, KT11 3QB\, United Kingdom
CATEGORIES:Ball
ATTACH;FMTTYPE=image/jpeg:https://www.emmasbubbletrust.org/wp-content/uploads/2018/12/36.jpg
ORGANIZER;CN="Lynn Brandon":MAILTO:lynn.brandon@emmasbubbletrust.org
END:VEVENT
BEGIN:VEVENT
DTSTART;TZID=UTC:20181201T203000
DTEND;TZID=UTC:20181201T210000
DTSTAMP:20260419T205218
CREATED:20181128T201906Z
LAST-MODIFIED:20181128T201906Z
UID:3104-1543696200-1543698000@www.emmasbubbletrust.org
SUMMARY:Ru's big chop off
DESCRIPTION:Friend of the charity Reuben Pritchard has decided to cut his amazing mop of hair off and donate it to a charity that makes wigs! \nNot only that he’s going to do it in front of a bunch of guests Live at this years Ball! \nWe will be streaming live on Facebook\, so you’ll all be there in spirit able to watch along with us. \nPlease donate by visiting:Â https://www.justgiving.com/fundraising/reuben-pritchard
URL:https://www.emmasbubbletrust.org/event/rus-big-chop-off/
LOCATION:Woodlands Park Hotel\, Woodlands Ln\, Stoke D'Abernon\, Cobham\, Surrey\, KT11 3QB\, United Kingdom
CATEGORIES:Ball
ATTACH;FMTTYPE=image/jpeg:https://www.emmasbubbletrust.org/wp-content/uploads/2018/11/6ee8e651-3b60-48d4-9ee3-bbeaa44180ac.jpg
END:VEVENT
BEGIN:VEVENT
DTSTART;TZID=UTC:20181201T183000
DTEND;TZID=UTC:20181202T010000
DTSTAMP:20260419T205218
CREATED:20180513T192810Z
LAST-MODIFIED:20181128T201247Z
UID:3019-1543689000-1543712400@www.emmasbubbletrust.org
SUMMARY:Emma's Ball 2018 - 10th Anniversary
DESCRIPTION:Kick off the festive season in style by attending Emma’s 10th Anniversary Ball.Â  \nIt’s hard to believe that 2018 is the 10th year of Emma’s Ball\, but it’s easy to understand why it’s been such a success over the years. This is our landmark event of the year\, celebrating the charity itself and raising a little bit of money along the way. \nDetails of the night below: \n\nDrinks on Arrival – 6.30pm. \nSit down meal – 7.00pm.\nMaster Of Ceremony.\n3 Course Meal-menu to be decided with Coffee. Please note special dietary requirements needed prior to the Event.Â \nÂ½ Bottle of wine per person.\nTable Prizes.\nRaffle.\nCharity Auction. Prizes below:\n\nSki Lodge in Bansko\, Bulgaria. Sleeps 6\nRound of golf and 1 nightâ€™s stay at Selsdon Park Hotel (de Vere hotel)\nShard experience for two\, including champagne\nSilent Pool gin distillery (Albury\, Guildford) tour for 12 people\nCake/chocolate making experience for 2\nFlight for two over south coast\nAfternoon tea for two at Woodlands Park Hotel\, Leatherhead\nSigned Arsenal football + 1 signed t-shirt\n\n\nDancing till 1am.\n\nWe can’t wait to see you!
URL:https://www.emmasbubbletrust.org/event/emmas-ball-2018-10th-anniversary/
LOCATION:Woodlands Park Hotel\, Woodlands Ln\, Stoke D'Abernon\, Cobham\, Surrey\, KT11 3QB\, United Kingdom
CATEGORIES:Ball
ATTACH;FMTTYPE=image/jpeg:https://www.emmasbubbletrust.org/wp-content/uploads/2017/12/179.jpg
ORGANIZER;CN="Joy Lynch":MAILTO:joy.lynch@emmasbubbletrust.org
END:VEVENT
BEGIN:VEVENT
DTSTART;TZID=UTC:20171209T180000
DTEND;TZID=UTC:20171210T010000
DTSTAMP:20260419T205218
CREATED:20170625T102203Z
LAST-MODIFIED:20171019T184743Z
UID:2278-1512842400-1512867600@www.emmasbubbletrust.org
SUMMARY:Emma's Ball 2017 - SOLD OUT
DESCRIPTION:Emma’s Ball is our featured annual event\,Â in memory of Emma’s birthday\, to both raise money and celebrate her very special of days. This year is sadly 10 years that we’ve been without Emma\, with the Ball being in it’s 8th iteration\, where will celebrate\, dance and most importantly raise lots of money for this fantastic charity.Â This year in desperate need of auction donations\, so if you have anything\, large or small\, please contact us.\n\nAs part of the ticket price\, you’ll get all of your entertainment (which includes master of ceremonies\, auctions\, table prizes and DJ)\, arrival drinks\, 3 course meal\, wine and after coffees. The party will also continue after the main event with the after party taking place in the main Woodlands Park Hotel bar. Rooms are also available at a special rate (more to come on this nearer to the date).\n\n\nEveryone that’s ever been to Emma’s Ball will confirm that it’s one of the highlights of their year\, with many saying that they now often don’t start to feel Christmassy until they’ve celebrated at the Ball.\n\n\nBuy your tickets now\n\nIn order to pay for the Ball\, please send Â£69 per ticket to the following bank account: \n\nEmma’s Bubble Trust- HSBC\nSort Code: 40-27-07\nAccount no: 71563971\nPlease include the a reference of First Initial\, First 5 Letters of Surname and 17 at the end (e.g. ALYNCH17 or LCHAMB17).\n\nPlease also email joy.lynch@emmasbubbletrust.org and lynn.brandon@emmasbubbletrust.org with the name of your guests (if you’ve more than 1 ticket) and all of your food choices: \nStarters \n\nWoodlands prawn cocktail (GF\, DF\, NF)\nTomato tart with tapenade and tomato gel (V\, EF\, NF)\n\nMain \n\nCorn fed chicken breast with creamed potato\, spinach and oyster mushroom cream sauce (GF\, EF\, NF)\nSlow braised shoulder of lamb with boulangÃ¨re\, potatoes\, celeriac and purple sprouting broccoli and rosemary sauce (GF\, EF\, NF)\nButternut squash tagliatelle\, pine nuts and spinach (V)\n\nDessert \n\nLemon tart with raspberry coulis and lemon sorbet (V)\nFruit salad and sorbet (DF\, V)
URL:https://www.emmasbubbletrust.org/event/emmas-ball-2017/
LOCATION:Woodlands Park Hotel\, Woodlands Ln\, Stoke D'Abernon\, Cobham\, Surrey\, KT11 3QB\, United Kingdom
CATEGORIES:Ball
ATTACH;FMTTYPE=image/jpeg:https://www.emmasbubbletrust.org/wp-content/uploads/2016/12/100-1.jpg
ORGANIZER;CN="Joy Lynch":MAILTO:joy.lynch@emmasbubbletrust.org
END:VEVENT
BEGIN:VEVENT
DTSTART;TZID=UTC:20161210T183000
DTEND;TZID=UTC:20161210T235500
DTSTAMP:20260419T205218
CREATED:20161120T211336Z
LAST-MODIFIED:20161128T220232Z
UID:1059-1481394600-1481414100@www.emmasbubbletrust.org
SUMMARY:Emma's Ball 2016
DESCRIPTION:Emma’s Ball is our featured annual event\,Â in memory of Emma’s birthday\, to both raise money and celebrate her very special of days. In it’s 7th year we hope that this year will be even better than the last\, with lots of memories made throughout the night. This year we’re very lucky to have lots of fantastic auction lots up for grabs as well as fantastic table prizes\, so that you’ll truly have a fantastic night. As part of the ticket price\, you’ll get all of your entertainment\, arrival drinks\, 3 course meal\, wine and after coffees.
URL:https://www.emmasbubbletrust.org/event/emmas-ball-2016/
LOCATION:Woodlands Park Hotel\, Woodlands Ln\, Stoke D'Abernon\, Cobham\, Surrey\, KT11 3QB\, United Kingdom
CATEGORIES:Ball
ATTACH;FMTTYPE=image/jpeg:https://www.emmasbubbletrust.org/wp-content/uploads/2015/12/DSC_0275.jpg
ORGANIZER;CN="Joy Lynch":MAILTO:joy.lynch@emmasbubbletrust.org
END:VEVENT
END:VCALENDAR